BEGIN:VCALENDAR
VERSION:2.0
PRODID:-//81.169.145.161//NONSGML kigkonsult.se iCalcreator 2.20//
CALSCALE:GREGORIAN
METHOD:PUBLISH
X-WR-TIMEZONE:Europe/Berlin
BEGIN:VEVENT
UID:event2172@Neuwieder Schwimmverein 09 e.V.
DTSTAMP:20260425T151725Z
CATEGORIES:Wettkampf
DESCRIPTION:19. Frühjahrsschwimmfest des TV Wetzlar\nKategorie: Wettkampf\n
 ICS-Link: https://nsv09.de/index.php?option=com_jem&view=event&id=2172:19-
 fruehjahrsschwimmfest-des-tv-wetzlar\n
DTSTART;TZID=Europe/Berlin:20260306T163000
DTEND;TZID=Europe/Berlin:20260308T160000
LOCATION:Europabad Wetzlar\,Frankfurter Str. 86\,35578 Wetzlar
SUMMARY:19. Frühjahrsschwimmfest des TV Wetzlar
URL:https://nsv09.de/index.php?option=com_jem&view=event&id=2172:19-fruehja
 hrsschwimmfest-des-tv-wetzlar
END:VEVENT
END:VCALENDAR